BEGIN:VCALENDAR
VERSION:2.0
PRODID:icalendar-ruby
CALSCALE:GREGORIAN
METHOD:PUBLISH
BEGIN:VEVENT
DTSTAMP:20260419T120746Z
UID:bigmarker_conference_2b930013b029@bigmarker.com
DTSTART:20240716T173000Z
DTEND:20240716T180500Z
DESCRIPTION:In this session\, you will learn how to drive more high-margin 
 revenue from email and SMS marketing by exploring key components such as u
 nderstanding the velocity of Lifetime Value (LTV)\, implementing effective
  segmentation strategies\, utilizing core automation processes\, and devel
 oping a comprehensive campaign calendar.\n\n  View and attend at https://w
 ww.bigmarker.com/sendlane/Scalable-Retention-Strategies-to-Combat-Rising-C
 AC
LOCATION:https://www.bigmarker.com/sendlane/Scalable-Retention-Strategies-t
 o-Combat-Rising-CAC
ORGANIZER:info@BigMarker.com
STATUS:CONFIRMED
SUMMARY:Scalable Retention Strategies to Combat Rising CAC
X-MICROSOFT-CDO-APPT-SEQUENCE:0
X-MICROSOFT-CDO-BUSYSTATUS:BUSY
X-MICROSOFT-CDO-INTENDEDSTATUS:BUSY
X-MICROSOFT-CDO-ALLDAYEVENT:FALSE
X-MICROSOFT-CDO-IMPORTANCE:1
X-MICROSOFT-CDO-INSTTYPE:0
X-MS-OLK-FORCEINSPECTOROPEN:TRUE
END:VEVENT
END:VCALENDAR
